BEGIN:VCALENDAR
VERSION:2.0
PRODID:-//Plone.org//NONSGML plone.app.event//EN
X-WR-TIMEZONE:Europe/Rome
BEGIN:VEVENT
SUMMARY:Webinar "L'Emilia-Romagna verso Expo: collettiva regionale a Facto
 ry Innovation Week"
DTSTART;TZID=Europe/Rome;VALUE=DATE-TIME:20250417T160000
DTEND;TZID=Europe/Rome;VALUE=DATE-TIME:20250417T173000
DTSTAMP;VALUE=DATE-TIME:20260425T175542Z
UID:3408ef08501d46d79c471e864a98a521@imprese.regione.emilia-romagna.it
ATTENDEE;CN="Gian Luca Baldoni, Internazionalizzazione del sistema produtt
 ivo regionale";ROLE=REQ-PARTICIPANT:Gian Luca Baldoni, Internazionalizzazi
 one del sistema produttivo regionale
ATTENDEE;CN="Federico Capucci, Clust-er Mech";ROLE=REQ-PARTICIPANT:Federic
 o Capucci, Clust-er Mech
ATTENDEE;CN="Stefania Gamberini, CNA Emilia-Romagna";ROLE=REQ-PARTICIPANT:
 Stefania Gamberini, CNA Emilia-Romagna
ATTENDEE;CN="Rocco Marcuccio, Confindustria Emilia-Romagna";ROLE=REQ-PARTI
 CIPANT:Rocco Marcuccio, Confindustria Emilia-Romagna
ATTENDEE;CN="Roberta Trovarelli, Legacoop Emilia-Romagna";ROLE=REQ-PARTICI
 PANT:Roberta Trovarelli, Legacoop Emilia-Romagna
CATEGORIES:internazionalizzazione,expo
CONTACT:Segreteria Settore Attrattività\, Internazionalizzazione\, Ricerc
 a\, 0515276420\, sportelloestero@regione.emilia-romagna.it\, https://event
 s.teams.microsoft.com/event/78f08f4a-dc4f-4158-9225-50539fafef06@f45c8468-
 d416-4da9-aadb-9ab75944617b
CREATED;VALUE=DATE-TIME:20250414T083235Z
DESCRIPTION:Presentazione dell’Avviso a manifestare interesse
LAST-MODIFIED;VALUE=DATE-TIME:20250415T070913Z
LOCATION:Piattaforma Microsoft Teams
URL:https://imprese.regione.emilia-romagna.it/internazionalizzazione/event
 i/2025/webinar-lemilia-romagna-verso-expo-collettiva-regionale-a-factory-i
 nnovation-week
END:VEVENT
BEGIN:VTIMEZONE
TZID:Europe/Rome
X-LIC-LOCATION:Europe/Rome
BEGIN:DAYLIGHT
DTSTART;VALUE=DATE-TIME:20250330T030000
TZNAME:CEST
TZOFFSETFROM:+0100
TZOFFSETTO:+0200
END:DAYLIGHT
END:VTIMEZONE
END:VCALENDAR
