BEGIN:VCALENDAR
VERSION:2.0
PRODID:-//Plone.org//NONSGML plone.app.event//EN
X-WR-TIMEZONE:Europe/Rome
BEGIN:VEVENT
SUMMARY:Opportunità di business in Giordania e Somalia
DTSTART;TZID=Europe/Rome;VALUE=DATE-TIME:20230330T143000
DTSTAMP;VALUE=DATE-TIME:20260426T001339Z
UID:2dbe08bab1754306b4b31a90e676469c@imprese.regione.emilia-romagna.it
CREATED;VALUE=DATE-TIME:20230323T153631Z
LAST-MODIFIED;VALUE=DATE-TIME:20230323T154603Z
LOCATION:Legacoop Emilia-Romagna\, Viale Aldo Moro 16\, Bologna - SALA A
URL:https://imprese.regione.emilia-romagna.it/internazionalizzazione/event
 i/2023/opportunita-di-business-esistenti-in-giordania-e-somalia
END:VEVENT
BEGIN:VTIMEZONE
TZID:Europe/Rome
X-LIC-LOCATION:Europe/Rome
BEGIN:DAYLIGHT
DTSTART;VALUE=DATE-TIME:20230326T030000
TZNAME:CEST
TZOFFSETFROM:+0100
TZOFFSETTO:+0200
END:DAYLIGHT
END:VTIMEZONE
END:VCALENDAR
