BEGIN:VCALENDAR
VERSION:2.0
PRODID:-//Plone.org//NONSGML plone.app.event//EN
X-WR-TIMEZONE:Europe/Rome
BEGIN:VEVENT
SUMMARY:World Food Forum @ CIBUS 2022
DTSTART;TZID=Europe/Rome;VALUE=DATE-TIME:20220505T110000
DTSTAMP;VALUE=DATE-TIME:20260426T045245Z
UID:30822940d99e4e7393711a9977d7d8a1@imprese.regione.emilia-romagna.it
CREATED;VALUE=DATE-TIME:20220422T092944Z
LAST-MODIFIED;VALUE=DATE-TIME:20220502T132727Z
LOCATION:Palazzo Soragna - Strada al Ponte Caprazucca 6/A\, Parma
URL:https://imprese.regione.emilia-romagna.it/internazionalizzazione/event
 i/2022/world-food-forum-cibus-2022
END:VEVENT
BEGIN:VTIMEZONE
TZID:Europe/Rome
X-LIC-LOCATION:Europe/Rome
BEGIN:DAYLIGHT
DTSTART;VALUE=DATE-TIME:20220327T030000
TZNAME:CEST
TZOFFSETFROM:+0100
TZOFFSETTO:+0200
END:DAYLIGHT
END:VTIMEZONE
END:VCALENDAR
