BEGIN:VCALENDAR
VERSION:2.0
PRODID:-//Plone.org//NONSGML plone.app.event//EN
X-WR-TIMEZONE:Europe/Rome
BEGIN:VEVENT
SUMMARY:Space economy e la nuova frontiera tecnologica: missioni lunari e 
 marziane con i droni
DTSTART;TZID=Europe/Rome;VALUE=DATE-TIME:20221014T110000
DTSTAMP;VALUE=DATE-TIME:20260426T060255Z
UID:bb2075b164bf437ab8edc73e61d17227@imprese.regione.emilia-romagna.it
CREATED;VALUE=DATE-TIME:20221010T165652Z
LAST-MODIFIED;VALUE=DATE-TIME:20221010T165749Z
LOCATION:Sala Urano - BolognaFiere
URL:https://imprese.regione.emilia-romagna.it/internazionalizzazione/event
 i/2022/space-economy-e-la-nuova-frontiera-tecnologica-missioni-lunari-e-ma
 rziane-con-i-droni
END:VEVENT
BEGIN:VTIMEZONE
TZID:Europe/Rome
X-LIC-LOCATION:Europe/Rome
BEGIN:DAYLIGHT
DTSTART;VALUE=DATE-TIME:20220327T030000
TZNAME:CEST
TZOFFSETFROM:+0100
TZOFFSETTO:+0200
END:DAYLIGHT
END:VTIMEZONE
END:VCALENDAR
