BEGIN:VCALENDAR
VERSION:2.0
PRODID:-//Plone.org//NONSGML plone.app.event//EN
X-WR-TIMEZONE:Europe/Rome
BEGIN:VEVENT
SUMMARY:Messico: presentazione nuova piattaforma CDP Business Matching
DTSTART;TZID=Europe/Rome;VALUE=DATE-TIME:20220706T160000
DTEND;TZID=Europe/Rome;VALUE=DATE-TIME:20220706T173000
DTSTAMP;VALUE=DATE-TIME:20260425T175351Z
UID:2a20b16cfabd4760bf933a9f116712f1@imprese.regione.emilia-romagna.it
CREATED;VALUE=DATE-TIME:20220630T150110Z
LAST-MODIFIED;VALUE=DATE-TIME:20220630T150304Z
LOCATION:Online
URL:https://imprese.regione.emilia-romagna.it/internazionalizzazione/event
 i/2022/messico-presentazione-nuova-piattaforma-cdp-business-matching-1
END:VEVENT
BEGIN:VTIMEZONE
TZID:Europe/Rome
X-LIC-LOCATION:Europe/Rome
BEGIN:DAYLIGHT
DTSTART;VALUE=DATE-TIME:20220327T030000
TZNAME:CEST
TZOFFSETFROM:+0100
TZOFFSETTO:+0200
END:DAYLIGHT
END:VTIMEZONE
END:VCALENDAR
