BEGIN:VCALENDAR
VERSION:2.0
PRODID:-//Plone.org//NONSGML plone.app.event//EN
X-WR-TIMEZONE:Europe/Rome
BEGIN:VEVENT
SUMMARY:Gli effetti del conflitto russo-ucraino sui conti aziendali
DTSTART;TZID=Europe/Rome;VALUE=DATE-TIME:20220421T113000
DTEND;TZID=Europe/Rome;VALUE=DATE-TIME:20220421T133000
DTSTAMP;VALUE=DATE-TIME:20260425T182320Z
UID:09c31f40097b4678a1aa8db60172f295@imprese.regione.emilia-romagna.it
CREATED;VALUE=DATE-TIME:20220412T135124Z
LAST-MODIFIED;VALUE=DATE-TIME:20220412T135155Z
LOCATION:Online
URL:https://imprese.regione.emilia-romagna.it/internazionalizzazione/event
 i/2022/gli-effetti-del-conflitto-russo-ucraino-sui-conti-aziendali
END:VEVENT
BEGIN:VTIMEZONE
TZID:Europe/Rome
X-LIC-LOCATION:Europe/Rome
BEGIN:DAYLIGHT
DTSTART;VALUE=DATE-TIME:20220327T030000
TZNAME:CEST
TZOFFSETFROM:+0100
TZOFFSETTO:+0200
END:DAYLIGHT
END:VTIMEZONE
END:VCALENDAR
