BEGIN:VCALENDAR
VERSION:2.0
PRODID:-//Plone.org//NONSGML plone.app.event//EN
X-WR-TIMEZONE:Europe/Rome
BEGIN:VEVENT
SUMMARY:Convegno inaugurale CIBUS 2022
DTSTART;TZID=Europe/Rome;VALUE=DATE-TIME:20220503T103000
DTSTAMP;VALUE=DATE-TIME:20260425T224729Z
UID:1676142cb64f4c979dec9d88d96a3fc1@imprese.regione.emilia-romagna.it
CREATED;VALUE=DATE-TIME:20220427T081505Z
LAST-MODIFIED;VALUE=DATE-TIME:20220427T081546Z
LOCATION:Sala Plenaria Pad 1 - Fiera di Parma
URL:https://imprese.regione.emilia-romagna.it/internazionalizzazione/event
 i/2022/convegno-inaugurale-cibus-2022
END:VEVENT
BEGIN:VTIMEZONE
TZID:Europe/Rome
X-LIC-LOCATION:Europe/Rome
BEGIN:DAYLIGHT
DTSTART;VALUE=DATE-TIME:20220327T030000
TZNAME:CEST
TZOFFSETFROM:+0100
TZOFFSETTO:+0200
END:DAYLIGHT
END:VTIMEZONE
END:VCALENDAR
