BEGIN:VCALENDAR
VERSION:2.0
PRODID:-//Plone.org//NONSGML plone.app.event//EN
X-WR-TIMEZONE:Europe/Rome
BEGIN:VEVENT
SUMMARY:China International Import Expo di Shangai - Webinar di presentazi
 one
DTSTART;TZID=Europe/Rome;VALUE=DATE-TIME:20220318T100000
DTEND;TZID=Europe/Rome;VALUE=DATE-TIME:20220318T113000
DTSTAMP;VALUE=DATE-TIME:20260425T182312Z
UID:20693df9b33e42ad9dc801abd7021ad0@imprese.regione.emilia-romagna.it
CREATED;VALUE=DATE-TIME:20220307T143948Z
LAST-MODIFIED;VALUE=DATE-TIME:20220307T152325Z
LOCATION:Online
URL:https://imprese.regione.emilia-romagna.it/internazionalizzazione/event
 i/2022/china-international-import-expo-di-shangai-webinar-di-presentazione
END:VEVENT
BEGIN:VTIMEZONE
TZID:Europe/Rome
X-LIC-LOCATION:Europe/Rome
BEGIN:STANDARD
DTSTART;VALUE=DATE-TIME:20211031T020000
TZNAME:CET
TZOFFSETFROM:+0200
TZOFFSETTO:+0100
END:STANDARD
END:VTIMEZONE
END:VCALENDAR
