BEGIN:VCALENDAR
VERSION:2.0
PRODID:-//Plone.org//NONSGML plone.app.event//EN
X-WR-TIMEZONE:Europe/Rome
BEGIN:VEVENT
SUMMARY:Camerun: terra di opportunità
DTSTART;TZID=Europe/Rome;VALUE=DATE-TIME:20221124T150000
DTSTAMP;VALUE=DATE-TIME:20260426T062812Z
UID:87c845322a68460e9d68663ae0761c60@imprese.regione.emilia-romagna.it
CREATED;VALUE=DATE-TIME:20221114T140631Z
LAST-MODIFIED;VALUE=DATE-TIME:20221114T140648Z
LOCATION:Unioncamere - viale Aldo Moro 62
URL:https://imprese.regione.emilia-romagna.it/internazionalizzazione/event
 i/2022/camerun-terra-di-opportunita
END:VEVENT
BEGIN:VTIMEZONE
TZID:Europe/Rome
X-LIC-LOCATION:Europe/Rome
BEGIN:STANDARD
DTSTART;VALUE=DATE-TIME:20221030T020000
TZNAME:CET
TZOFFSETFROM:+0200
TZOFFSETTO:+0100
END:STANDARD
END:VTIMEZONE
END:VCALENDAR
