BEGIN:VCALENDAR
VERSION:2.0
PRODID:-//Plone.org//NONSGML plone.app.event//EN
X-WR-TIMEZONE:Europe/Rome
BEGIN:VEVENT
SUMMARY:Bologna e Talento: investire nel capitale umano come fattore di cr
 escita
DTSTART;TZID=Europe/Rome;VALUE=DATE-TIME:20220201T170000
DTEND;TZID=Europe/Rome;VALUE=DATE-TIME:20220201T190000
DTSTAMP;VALUE=DATE-TIME:20260426T011850Z
UID:9b8412dab46941fd82bfd1e93c53af9b@imprese.regione.emilia-romagna.it
CATEGORIES:Internazionalizzazione
CREATED;VALUE=DATE-TIME:20220126T101448Z
LAST-MODIFIED;VALUE=DATE-TIME:20220126T101536Z
LOCATION:Auditorium Enzo Biagi (Piazza del Nettuno\, 3 - Bologna) e in dir
 etta streaming
URL:https://imprese.regione.emilia-romagna.it/internazionalizzazione/event
 i/2022/bologna-e-talento-investire-nel-capitale-umano-come-fattore-di-cres
 cita
END:VEVENT
BEGIN:VTIMEZONE
TZID:Europe/Rome
X-LIC-LOCATION:Europe/Rome
BEGIN:STANDARD
DTSTART;VALUE=DATE-TIME:20211031T020000
TZNAME:CET
TZOFFSETFROM:+0200
TZOFFSETTO:+0100
END:STANDARD
END:VTIMEZONE
END:VCALENDAR
