BEGIN:VCALENDAR
VERSION:2.0
PRODID:-//Plone.org//NONSGML plone.app.event//EN
X-WR-TIMEZONE:Europe/Rome
BEGIN:VEVENT
SUMMARY:Big Data Talent : On the Move a Expo 2020 Dubai
DTSTART;VALUE=DATE:20220113
DTEND;VALUE=DATE:20220114
DTSTAMP;VALUE=DATE-TIME:20260426T062207Z
UID:48bb6eed01da40009de228a71f4105af@imprese.regione.emilia-romagna.it
CREATED;VALUE=DATE-TIME:20220103T121102Z
LAST-MODIFIED;VALUE=DATE-TIME:20220103T122359Z
LOCATION:Padiglione Italia a Expo 2020 Dubai e in diretta streaming online
URL:https://imprese.regione.emilia-romagna.it/internazionalizzazione/event
 i/2022/big-data-talent-on-the-move-a-expo-2020-dubai
END:VEVENT
END:VCALENDAR
