BEGIN:VCALENDAR
VERSION:2.0
PRODID:-//Plone.org//NONSGML plone.app.event//EN
X-WR-TIMEZONE:Europe/Rome
BEGIN:VEVENT
SUMMARY:Una piattaforma digitale per la cooperazione economica Italia Cina
DTSTART;TZID=Europe/Rome;VALUE=DATE-TIME:20210429T100000
DTEND;TZID=Europe/Rome;VALUE=DATE-TIME:20210429T110000
DTSTAMP;VALUE=DATE-TIME:20260425T182236Z
UID:75c6c5db92d7404f9763c6cd33ec170f@imprese.regione.emilia-romagna.it
CATEGORIES:Internazionalizzazione
CREATED;VALUE=DATE-TIME:20210414T174545Z
DESCRIPTION:Evento in collaborazione con la Regione Emilia-Romagna
LAST-MODIFIED;VALUE=DATE-TIME:20210414T175245Z
LOCATION:Webinar
URL:https://imprese.regione.emilia-romagna.it/internazionalizzazione/event
 i/2021/una-piattaforma-digitale-per-la-cooperazione-economica-italia-cina
END:VEVENT
BEGIN:VTIMEZONE
TZID:Europe/Rome
X-LIC-LOCATION:Europe/Rome
BEGIN:DAYLIGHT
DTSTART;VALUE=DATE-TIME:20210328T030000
TZNAME:CEST
TZOFFSETFROM:+0100
TZOFFSETTO:+0200
END:DAYLIGHT
END:VTIMEZONE
END:VCALENDAR
