BEGIN:VCALENDAR
VERSION:2.0
PRODID:-//Plone.org//NONSGML plone.app.event//EN
X-WR-TIMEZONE:Europe/Rome
BEGIN:VEVENT
SUMMARY:Mission Restart: l’aftermarket automotive riparte da Imola
DTSTART;TZID=Europe/Rome;VALUE=DATE-TIME:20211013T093000
DTEND;TZID=Europe/Rome;VALUE=DATE-TIME:20211014T120000
DTSTAMP;VALUE=DATE-TIME:20260425T182212Z
UID:27d25706705a4010b2011138f7a30702@imprese.regione.emilia-romagna.it
CATEGORIES:Internazionalizzazione
CONTACT:https://www.missionrestart.it/
CREATED;VALUE=DATE-TIME:20211011T122745Z
DESCRIPTION:Il 13 e il 14 ottobre 2021 presso l’Autodromo Internazionale
  Enzo e Dino Ferrari le aziende del settore si ritroveranno per una due gi
 orni di expo\, conferenze e workshop
LAST-MODIFIED;VALUE=DATE-TIME:20211011T144156Z
LOCATION:Autodromo Internazionale Enzo e Dino Ferrari
URL:https://imprese.regione.emilia-romagna.it/internazionalizzazione/event
 i/2021/mission-restart-l2019aftermarket-automotive-riparte-da-imola
END:VEVENT
BEGIN:VTIMEZONE
TZID:Europe/Rome
X-LIC-LOCATION:Europe/Rome
BEGIN:DAYLIGHT
DTSTART;VALUE=DATE-TIME:20210328T030000
TZNAME:CEST
TZOFFSETFROM:+0100
TZOFFSETTO:+0200
END:DAYLIGHT
END:VTIMEZONE
END:VCALENDAR
