BEGIN:VCALENDAR
VERSION:2.0
PRODID:-//Plone.org//NONSGML plone.app.event//EN
X-WR-TIMEZONE:Europe/Rome
BEGIN:VEVENT
SUMMARY:Italian Design Day 2021 a Los Angeles: iscrizioni aperte per il De
 sign Talk
DTSTART;TZID=Europe/Rome;VALUE=DATE-TIME:20210923T180000
DTSTAMP;VALUE=DATE-TIME:20260426T053710Z
UID:3f19e7b0246447e4828a19425dab75b5@imprese.regione.emilia-romagna.it
CATEGORIES:Internazionalizzazione
CREATED;VALUE=DATE-TIME:20210915T100624Z
LAST-MODIFIED;VALUE=DATE-TIME:20210915T132042Z
LOCATION:Online
URL:https://imprese.regione.emilia-romagna.it/internazionalizzazione/event
 i/2021/italian-design-day-a-los-angeles-iscrizioni-aperte-per-il-design-ta
 lk
END:VEVENT
BEGIN:VTIMEZONE
TZID:Europe/Rome
X-LIC-LOCATION:Europe/Rome
BEGIN:DAYLIGHT
DTSTART;VALUE=DATE-TIME:20210328T030000
TZNAME:CEST
TZOFFSETFROM:+0100
TZOFFSETTO:+0200
END:DAYLIGHT
END:VTIMEZONE
END:VCALENDAR
