BEGIN:VCALENDAR
VERSION:2.0
PRODID:-//Plone.org//NONSGML plone.app.event//EN
X-WR-TIMEZONE:Europe/Rome
BEGIN:VEVENT
SUMMARY:Italia – Messico: cooperazione per la crescita
DTSTART;TZID=Europe/Rome;VALUE=DATE-TIME:20210304T160000
DTEND;TZID=Europe/Rome;VALUE=DATE-TIME:20210304T180000
DTSTAMP;VALUE=DATE-TIME:20260425T195041Z
UID:bd6995e9094d4061808cd212cfbd88bb@imprese.regione.emilia-romagna.it
CATEGORIES:internazionalizzazione
CONTACT:Cristina Bagatin\, cristina.bagatin@hoganlovells.com
CREATED;VALUE=DATE-TIME:20210225T093112Z
DESCRIPTION:Organizzato dal Consolato Generale del Messico a Milano e da H
 ogan Lovells
LAST-MODIFIED;VALUE=DATE-TIME:20210225T100745Z
LOCATION:Zoom webinar
URL:https://imprese.regione.emilia-romagna.it/internazionalizzazione/event
 i/2021/italia-2013-messico-cooperazione-per-la-crescita-1
END:VEVENT
BEGIN:VTIMEZONE
TZID:Europe/Rome
X-LIC-LOCATION:Europe/Rome
BEGIN:STANDARD
DTSTART;VALUE=DATE-TIME:20201025T020000
TZNAME:CET
TZOFFSETFROM:+0200
TZOFFSETTO:+0100
END:STANDARD
END:VTIMEZONE
END:VCALENDAR
