BEGIN:VCALENDAR
VERSION:2.0
PRODID:-//Plone.org//NONSGML plone.app.event//EN
X-WR-TIMEZONE:Europe/Rome
BEGIN:VEVENT
SUMMARY:Il diritto giapponese oggi
DTSTART;TZID=Europe/Rome;VALUE=DATE-TIME:20210520T103000
DTEND;TZID=Europe/Rome;VALUE=DATE-TIME:20210520T123000
DTSTAMP;VALUE=DATE-TIME:20260425T043520Z
UID:9c68f56a859c46ef9cd82689297a9607@imprese.regione.emilia-romagna.it
CATEGORIES:internazionalizzazione
CONTACT:Fondazione Italia Giappone\, +39 06 36915232\, italiagiapponeevent
 i@gmail.com\, http://www.italiagiappone.it
CREATED;VALUE=DATE-TIME:20210511T134014Z
DESCRIPTION:Organizzato dalla Fondazione Italia Giappone
LAST-MODIFIED;VALUE=DATE-TIME:20210511T134628Z
LOCATION:Seminario Online
URL:https://imprese.regione.emilia-romagna.it/internazionalizzazione/event
 i/2021/il-diritto-giapponese-oggi
END:VEVENT
BEGIN:VTIMEZONE
TZID:Europe/Rome
X-LIC-LOCATION:Europe/Rome
BEGIN:DAYLIGHT
DTSTART;VALUE=DATE-TIME:20210328T030000
TZNAME:CEST
TZOFFSETFROM:+0100
TZOFFSETTO:+0200
END:DAYLIGHT
END:VTIMEZONE
END:VCALENDAR
