BEGIN:VCALENDAR
VERSION:2.0
PRODID:-//Plone.org//NONSGML plone.app.event//EN
X-WR-TIMEZONE:Europe/Rome
BEGIN:VEVENT
SUMMARY:Advanced Science and Innovation for Resilient Societies: E³CI
DTSTART;TZID=Europe/Rome;VALUE=DATE-TIME:20210121T160000
DTEND;TZID=Europe/Rome;VALUE=DATE-TIME:20210121T180000
DTSTAMP;VALUE=DATE-TIME:20260426T042931Z
UID:6e0135d8539f4da09b3cdf8b30eb655a@imprese.regione.emilia-romagna.it
CATEGORIES:internazionalizzazione
CONTACT:https://www.ifabfoundation.org/2021/01/05/advanced-science-and-inn
 ovation-for-resilient-societies-event/
CREATED;VALUE=DATE-TIME:20210108T090123Z
DESCRIPTION:Online event organized by IFAB - The International Foundation 
 Big Data and Artificial Intelligence for Human Development
LAST-MODIFIED;VALUE=DATE-TIME:20210114T150041Z
LOCATION:Online Event
URL:https://imprese.regione.emilia-romagna.it/internazionalizzazione/event
 i/2021/advanced-science-and-innovation-for-resilient-societies-e3ci
END:VEVENT
BEGIN:VTIMEZONE
TZID:Europe/Rome
X-LIC-LOCATION:Europe/Rome
BEGIN:STANDARD
DTSTART;VALUE=DATE-TIME:20201025T020000
TZNAME:CET
TZOFFSETFROM:+0200
TZOFFSETTO:+0100
END:STANDARD
END:VTIMEZONE
END:VCALENDAR
