BEGIN:VCALENDAR
VERSION:2.0
PRODID:-//Plone.org//NONSGML plone.app.event//EN
X-WR-TIMEZONE:Europe/Rome
BEGIN:VEVENT
SUMMARY:Webinar del progetto "abITA: abitare italiano"
DTSTART;TZID=Europe/Rome;VALUE=DATE-TIME:20201013T100000
DTEND;TZID=Europe/Rome;VALUE=DATE-TIME:20201013T123000
DTSTAMP;VALUE=DATE-TIME:20260425T174611Z
UID:ca0c65172d4b4d5c947b140983524ac3@imprese.regione.emilia-romagna.it
CATEGORIES:internazionalizzazione
CONTACT:Roberta Trovarelli\, 051 509764\, trovarelli@emilia-romagna.legaco
 op.it\, http://www.legacoopemiliaromagna.coop
CREATED;VALUE=DATE-TIME:20200930T130015Z
DESCRIPTION:Organizzato da Legacoop Emilia Romagna
LAST-MODIFIED;VALUE=DATE-TIME:20200930T130106Z
LOCATION:Webinar: piattaforma Zoom
URL:https://imprese.regione.emilia-romagna.it/internazionalizzazione/event
 i/2020/webinar-del-progetto-abita-abitare-italiano
END:VEVENT
BEGIN:VTIMEZONE
TZID:Europe/Rome
X-LIC-LOCATION:Europe/Rome
BEGIN:DAYLIGHT
DTSTART;VALUE=DATE-TIME:20200329T030000
TZNAME:CEST
TZOFFSETFROM:+0100
TZOFFSETTO:+0200
END:DAYLIGHT
END:VTIMEZONE
END:VCALENDAR
