BEGIN:VCALENDAR
VERSION:2.0
PRODID:-//Plone.org//NONSGML plone.app.event//EN
X-WR-TIMEZONE:Europe/Rome
BEGIN:VEVENT
SUMMARY:Trade Expo Indonesia 2020 - Sustainable trade in a digital era
DTSTART;VALUE=DATE:20201110
DTEND;VALUE=DATE:20201117
DTSTAMP;VALUE=DATE-TIME:20260425T183200Z
UID:e5939304f8ec44efb7f20730fe6d8dd1@imprese.regione.emilia-romagna.it
CATEGORIES:internazionalizzazione
CONTACT:Jacopo Cappuccio\, +39 055 582580\, consulate.indonesia.florence@g
 mail.com\, http://tradexpoindonesia.com
CREATED;VALUE=DATE-TIME:20201029T072404Z
DESCRIPTION:Organizzato dal Consolato Indonesiano in Italia
LAST-MODIFIED;VALUE=DATE-TIME:20201029T072458Z
LOCATION:Webinar
URL:https://imprese.regione.emilia-romagna.it/internazionalizzazione/event
 i/2020/trade-expo-indonesia-2020-sustainable-trade-in-a-digital-era
END:VEVENT
END:VCALENDAR
