BEGIN:VCALENDAR
VERSION:2.0
PRODID:-//Plone.org//NONSGML plone.app.event//EN
X-WR-TIMEZONE:Europe/Rome
BEGIN:VEVENT
SUMMARY:Missione digitale Italia-Olanda settore tecnologie acqua & fashion
  sostenibile_Opportunità di b2b online
DTSTART;VALUE=DATE:20201103
DTEND;VALUE=DATE:20201112
DTSTAMP;VALUE=DATE-TIME:20260425T213438Z
UID:bb5eb1bc2a564d83a347e808ef9e832c@imprese.regione.emilia-romagna.it
CATEGORIES:internazionalizzazione
CONTACT:Confindustria Emilia-Romagna\, +39 051 33.99.940\, simpler@confind
 .emr.it\, http://www.confind.emr.it
CREATED;VALUE=DATE-TIME:20201022T074228Z
DESCRIPTION:Organizzato dalla rete Enterprise Europe Network e da Confindu
 stria Emilia-Romagna
LAST-MODIFIED;VALUE=DATE-TIME:20201022T074300Z
LOCATION:Online
URL:https://imprese.regione.emilia-romagna.it/internazionalizzazione/event
 i/2020/missione-digitale-italia-olanda-settore-tecnologie-acqua-fashion-so
 stenibile_opportunita-di-b2b-online
END:VEVENT
END:VCALENDAR
