BEGIN:VCALENDAR
VERSION:2.0
PRODID:-//Plone.org//NONSGML plone.app.event//EN
X-WR-TIMEZONE:Europe/Rome
BEGIN:VEVENT
SUMMARY:Forum digitale Italia  - Uzbekistan
DTSTART;TZID=Europe/Rome;VALUE=DATE-TIME:20201211T103000
DTEND;TZID=Europe/Rome;VALUE=DATE-TIME:20201211T140000
DTSTAMP;VALUE=DATE-TIME:20260426T045253Z
UID:189087ac57e54291bc023d05b56a4d30@imprese.regione.emilia-romagna.it
CATEGORIES:internazionalizzazione
CONTACT:Filippo Malinverno\, +39.333.164.9549\, filippo.malinverno@ambrose
 tti.eu\, https://www.iubf20.ambrosetti.eu/
CREATED;VALUE=DATE-TIME:20201119T082428Z
DESCRIPTION:Organizzato da The European House Ambrosetti e promosso da MAE
 CI
LAST-MODIFIED;VALUE=DATE-TIME:20201119T083823Z
LOCATION:eveno digitale
URL:https://imprese.regione.emilia-romagna.it/internazionalizzazione/event
 i/2020/forum-digitale-italia-uzbekistan
END:VEVENT
BEGIN:VTIMEZONE
TZID:Europe/Rome
X-LIC-LOCATION:Europe/Rome
BEGIN:STANDARD
DTSTART;VALUE=DATE-TIME:20201025T020000
TZNAME:CET
TZOFFSETFROM:+0200
TZOFFSETTO:+0100
END:STANDARD
END:VTIMEZONE
END:VCALENDAR
