BEGIN:VCALENDAR
VERSION:2.0
PRODID:-//Plone.org//NONSGML plone.app.event//EN
X-WR-TIMEZONE:Europe/Rome
BEGIN:VEVENT
SUMMARY:Doing Business in Singapore opportunità\, punti di forza e di deb
 olezza dell’ecosistema di Singapore
DTSTART;TZID=Europe/Rome;VALUE=DATE-TIME:20201001T113000
DTEND;TZID=Europe/Rome;VALUE=DATE-TIME:20201001T130000
DTSTAMP;VALUE=DATE-TIME:20260426T011849Z
UID:956f1f609d9e4e4fba6b1d607ff720fb@imprese.regione.emilia-romagna.it
CATEGORIES:internazionalizzazione
CONTACT:Nadia Baschieri\, +39 051 268078\, nadia.baschieri@ambrosetti.eu\,
  http://www.ambrosetti.eu
CREATED;VALUE=DATE-TIME:20200918T071618Z
DESCRIPTION:Organizzato da The European  House - Ambrosetti
LAST-MODIFIED;VALUE=DATE-TIME:20200918T073134Z
LOCATION:Webinar live
URL:https://imprese.regione.emilia-romagna.it/internazionalizzazione/event
 i/2020/doing-business-in-singapore-opportunita-punti-di-forza-e-di-debolez
 za-dell2019ecosistema-di-singapore
END:VEVENT
BEGIN:VTIMEZONE
TZID:Europe/Rome
X-LIC-LOCATION:Europe/Rome
BEGIN:DAYLIGHT
DTSTART;VALUE=DATE-TIME:20200329T030000
TZNAME:CEST
TZOFFSETFROM:+0100
TZOFFSETTO:+0200
END:DAYLIGHT
END:VTIMEZONE
END:VCALENDAR
