BEGIN:VCALENDAR
VERSION:2.0
PRODID:-//Plone.org//NONSGML plone.app.event//EN
X-WR-TIMEZONE:Europe/Rome
BEGIN:VEVENT
SUMMARY:Missione operatori in Giordania - energie rinnovabili
DTSTART;VALUE=DATE:20190722
DTEND;VALUE=DATE:20190725
DTSTAMP;VALUE=DATE-TIME:20260425T174824Z
UID:4b9a97a1bdf744d69bd039ffcdc69ed3@imprese.regione.emilia-romagna.it
CATEGORIES:internazionalizzazione
CONTACT:Cristina Mandolini\, 06 5992 6979\, coll.industriale@ice.it\, http
 ://www.ice.gov.it
CREATED;VALUE=DATE-TIME:20190520T105152Z
DESCRIPTION:Nell'ambito dell' attività promozionale 2019\, l'ICE-Agenzia 
 organizza una missione di operatori italiani in Giordania nel settore dell
 e energie rinnovabil
LAST-MODIFIED;VALUE=DATE-TIME:20190520T105235Z
LOCATION:Amman\, Giordania
URL:https://imprese.regione.emilia-romagna.it/internazionalizzazione/event
 i/2019/missione-operatori-in-giordania-energie-rinnovabili
END:VEVENT
END:VCALENDAR
