BEGIN:VCALENDAR
VERSION:2.0
PRODID:-//Plone.org//NONSGML plone.app.event//EN
X-WR-TIMEZONE:Europe/Rome
BEGIN:VEVENT
SUMMARY:Le mappe industriali dell’America Latina. Imprese italiane e opp
 ortunità di investimento: il caso Colombia
DTSTART;TZID=Europe/Rome;VALUE=DATE-TIME:20190705T090000
DTEND;TZID=Europe/Rome;VALUE=DATE-TIME:20190705T130000
DTSTAMP;VALUE=DATE-TIME:20260425T194108Z
UID:e84090098cd34f27abbc00594d2e7b94@imprese.regione.emilia-romagna.it
CATEGORIES:Internazionalizzazione
CONTACT:Staff Formiche\, 06-45473850\, landscapes@formiche.net
CREATED;VALUE=DATE-TIME:20190628T072932Z
DESCRIPTION:L’iniziativa è promossa da Fondazione Osservatorio PyME\, i
 n collaborazione con Unioncamere e Formiche e con il patrocinio dell'Ambas
 ciata Colombiana in Italia.
LAST-MODIFIED;VALUE=DATE-TIME:20190628T073433Z
LOCATION:Roma Auditorium Unioncamere\, Piazza Sallustio 21
URL:https://imprese.regione.emilia-romagna.it/internazionalizzazione/event
 i/2019/le-mappe-industriali-dell2019america-latina-imprese-italiane-e-oppo
 rtunita-di-investimento-il-caso-colombia-1
END:VEVENT
BEGIN:VTIMEZONE
TZID:Europe/Rome
X-LIC-LOCATION:Europe/Rome
BEGIN:DAYLIGHT
DTSTART;VALUE=DATE-TIME:20190331T030000
TZNAME:CEST
TZOFFSETFROM:+0100
TZOFFSETTO:+0200
END:DAYLIGHT
END:VTIMEZONE
END:VCALENDAR
