BEGIN:VCALENDAR
VERSION:2.0
PRODID:-//Plone.org//NONSGML plone.app.event//EN
X-WR-TIMEZONE:Europe/Rome
BEGIN:VEVENT
SUMMARY:Hong Kong\, motore trainante dell’economia asiatica: opportunit
 à di export e innovazione per le imprese italiane 
DTSTART;TZID=Europe/Rome;VALUE=DATE-TIME:20190117T143000
DTEND;TZID=Europe/Rome;VALUE=DATE-TIME:20190117T173000
DTSTAMP;VALUE=DATE-TIME:20260426T014600Z
UID:1f4bdf652d8543faaa0b662385b16e02@imprese.regione.emilia-romagna.it
CATEGORIES:Internazionalizzazione
CONTACT:Pierantonio Cantoni \, 027750320/1\, aice@unione.milano.it
CREATED;VALUE=DATE-TIME:20190107T100000Z
DESCRIPTION:Organizzato da AICE e InvestHK 
LAST-MODIFIED;VALUE=DATE-TIME:20190107T100300Z
LOCATION:Milano
URL:https://imprese.regione.emilia-romagna.it/internazionalizzazione/event
 i/2019/hong-kong-motore-trainante-dell2019economia-asiatica-opportunita-di
 -export-e-innovazione-per-le-imprese-italiane
END:VEVENT
BEGIN:VTIMEZONE
TZID:Europe/Rome
X-LIC-LOCATION:Europe/Rome
BEGIN:STANDARD
DTSTART;VALUE=DATE-TIME:20181028T020000
TZNAME:CET
TZOFFSETFROM:+0200
TZOFFSETTO:+0100
END:STANDARD
END:VTIMEZONE
END:VCALENDAR
