BEGIN:VCALENDAR
VERSION:2.0
PRODID:-//Plone.org//NONSGML plone.app.event//EN
X-WR-TIMEZONE:Europe/Rome
BEGIN:VEVENT
SUMMARY:HealthCare Made in Emilia Romagna
DTSTART;TZID=Europe/Rome;VALUE=DATE-TIME:20190213T173000
DTEND;TZID=Europe/Rome;VALUE=DATE-TIME:20190213T193000
DTSTAMP;VALUE=DATE-TIME:20260426T062139Z
UID:6807825ba2cc46edb25e10790bc9f6df@imprese.regione.emilia-romagna.it
CATEGORIES:Internazionalizzazione
CREATED;VALUE=DATE-TIME:20190130T093600Z
DESCRIPTION:Progetto di internazionalizzazione co-finanziato dalla Regione
  Emilia-Romagna e gestito dal Tecnopolo “Mario Veronesi” di Mirandola 
 e dalla Fondazione Democenter-Sipe
LAST-MODIFIED;VALUE=DATE-TIME:20190213T105000Z
LOCATION:Mirandola (MO)
URL:https://imprese.regione.emilia-romagna.it/internazionalizzazione/event
 i/2019/healthcare-made-in-emilia-romagna
END:VEVENT
BEGIN:VTIMEZONE
TZID:Europe/Rome
X-LIC-LOCATION:Europe/Rome
BEGIN:STANDARD
DTSTART;VALUE=DATE-TIME:20181028T020000
TZNAME:CET
TZOFFSETFROM:+0200
TZOFFSETTO:+0100
END:STANDARD
END:VTIMEZONE
END:VCALENDAR
