BEGIN:VCALENDAR
VERSION:2.0
PRODID:-//Plone.org//NONSGML plone.app.event//EN
X-WR-TIMEZONE:Europe/Rome
BEGIN:VEVENT
SUMMARY:Gli Emirati amano il Made in Italy - Formule vincenti per business
  di successo
DTSTART;TZID=Europe/Rome;VALUE=DATE-TIME:20190904T143000
DTEND;TZID=Europe/Rome;VALUE=DATE-TIME:20190904T163000
DTSTAMP;VALUE=DATE-TIME:20260426T010234Z
UID:0339e8d965994573b37879c19fb2e7e6@imprese.regione.emilia-romagna.it
CATEGORIES:internazionalizzazione
CONTACT:Chiara Badini\, (+39) 051 273861\, chiara.badini@labidee.it
CREATED;VALUE=DATE-TIME:20190823T130639Z
DESCRIPTION:In occasione di FARETE\, organizzato da Confindustria Emilia
LAST-MODIFIED;VALUE=DATE-TIME:20190823T132848Z
LOCATION:BolognaFiere\, Padiglione 16
URL:https://imprese.regione.emilia-romagna.it/internazionalizzazione/event
 i/2019/gli-emirati-amano-il-made-in-italy-formule-vincenti-per-business-di
 -successo
END:VEVENT
BEGIN:VTIMEZONE
TZID:Europe/Rome
X-LIC-LOCATION:Europe/Rome
BEGIN:DAYLIGHT
DTSTART;VALUE=DATE-TIME:20190331T030000
TZNAME:CEST
TZOFFSETFROM:+0100
TZOFFSETTO:+0200
END:DAYLIGHT
END:VTIMEZONE
END:VCALENDAR
