BEGIN:VCALENDAR
VERSION:2.0
PRODID:-//Plone.org//NONSGML plone.app.event//EN
X-WR-TIMEZONE:Europe/Rome
BEGIN:VEVENT
SUMMARY:Forum imprenditoriale italo-etiopico
DTSTART;TZID=Europe/Rome;VALUE=DATE-TIME:20190619T130000
DTEND;TZID=Europe/Rome;VALUE=DATE-TIME:20190620T143000
DTSTAMP;VALUE=DATE-TIME:20260426T045248Z
UID:061eb53ac80e44c8b444fadd71248f52@imprese.regione.emilia-romagna.it
CATEGORIES:Internazionalizzazione
CONTACT:Nicola Lener\, nicola.lener@esteri.it
CREATED;VALUE=DATE-TIME:20190603T084618Z
DESCRIPTION:In occasione della visita della Vice Ministra Del Re
LAST-MODIFIED;VALUE=DATE-TIME:20190603T084711Z
LOCATION:Addis Abeba\, Etiopia
URL:https://imprese.regione.emilia-romagna.it/internazionalizzazione/event
 i/2019/forum-imprenditoriale-italo-etiopico
END:VEVENT
BEGIN:VTIMEZONE
TZID:Europe/Rome
X-LIC-LOCATION:Europe/Rome
BEGIN:DAYLIGHT
DTSTART;VALUE=DATE-TIME:20190331T030000
TZNAME:CEST
TZOFFSETFROM:+0100
TZOFFSETTO:+0200
END:DAYLIGHT
END:VTIMEZONE
END:VCALENDAR
