BEGIN:VCALENDAR
VERSION:2.0
PRODID:-//Plone.org//NONSGML plone.app.event//EN
X-WR-TIMEZONE:Europe/Rome
BEGIN:VEVENT
SUMMARY:Emirati Arabi Uniti: missione di sistema 
DTSTART;TZID=Europe/Rome;VALUE=DATE-TIME:20190414T090000
DTEND;TZID=Europe/Rome;VALUE=DATE-TIME:20190416T170000
DTSTAMP;VALUE=DATE-TIME:20260425T174611Z
UID:4d869c4eb4ec42149b85eb1509b6efda@imprese.regione.emilia-romagna.it
CATEGORIES:Internazionalizzazione
CONTACT:eau2019@ice.it\, http://www.confindustria.ge.it/images/associazion
 e/Missione_EAU_-_testo_circolare.pdf
CREATED;VALUE=DATE-TIME:20190308T125300Z
DESCRIPTION:Organizzata da ICE Agenzia\, Confindustria e ABI
LAST-MODIFIED;VALUE=DATE-TIME:20190308T125600Z
LOCATION:Dubai\, Abu Dhabi
URL:https://imprese.regione.emilia-romagna.it/internazionalizzazione/event
 i/2019/emirati-arabi-uniti-missione-di-sistema
END:VEVENT
BEGIN:VTIMEZONE
TZID:Europe/Rome
X-LIC-LOCATION:Europe/Rome
BEGIN:DAYLIGHT
DTSTART;VALUE=DATE-TIME:20190331T030000
TZNAME:CEST
TZOFFSETFROM:+0100
TZOFFSETTO:+0200
END:DAYLIGHT
END:VTIMEZONE
END:VCALENDAR
