BEGIN:VCALENDAR
VERSION:2.0
PRODID:-//Plone.org//NONSGML plone.app.event//EN
X-WR-TIMEZONE:Europe/Rome
BEGIN:VEVENT
SUMMARY:Economia circolare: valorizzare i sottoprodotti
DTSTART;TZID=Europe/Rome;VALUE=DATE-TIME:20220311T093000
DTEND;TZID=Europe/Rome;VALUE=DATE-TIME:20220311T123000
DTSTAMP;VALUE=DATE-TIME:20260425T224730Z
UID:d58c81c1234c4d75adf8dc0176375f3a@imprese.regione.emilia-romagna.it
CONTACT:Informazioni\, ambiente@romagna.camcom.it\, https://www.romagna.ca
 mcom.it/ambiente/formazione-ambiente-2021-2022/percorso-regionale-seminari
 -adempimenti-ambientali-regime-dei-sottoprodotti-mud-2022/il-regime-dei-so
 ttoprodotti/index.htm?ID_D=11605#dettagliEvento
CREATED;VALUE=DATE-TIME:20220228T061306Z
DESCRIPTION:Webinar del sistema camerale dell'Emilia-Romagna per aiutare l
 e imprese ad individuare le concrete possibilità di utilizzo degli scarti
  di produzione
LAST-MODIFIED;VALUE=DATE-TIME:20220228T093033Z
LOCATION:Online
URL:https://imprese.regione.emilia-romagna.it/eventi/2022/economia-circola
 re-valorizzare-i-sottoprodotti
END:VEVENT
BEGIN:VTIMEZONE
TZID:Europe/Rome
X-LIC-LOCATION:Europe/Rome
BEGIN:STANDARD
DTSTART;VALUE=DATE-TIME:20211031T020000
TZNAME:CET
TZOFFSETFROM:+0200
TZOFFSETTO:+0100
END:STANDARD
END:VTIMEZONE
END:VCALENDAR
