BEGIN:VCALENDAR
VERSION:2.0
PRODID:-//Plone.org//NONSGML plone.app.event//EN
X-WR-TIMEZONE:Europe/Rome
BEGIN:VEVENT
SUMMARY:Space Economy: il futuro del cibo nei nuovi mondi
DTSTART;TZID=Europe/Rome;VALUE=DATE-TIME:20211116T180000
DTEND;TZID=Europe/Rome;VALUE=DATE-TIME:20211116T191500
DTSTAMP;VALUE=DATE-TIME:20260425T212820Z
UID:f6ee7c61bc6d48708ff3c3f5958c01da@imprese.regione.emilia-romagna.it
CREATED;VALUE=DATE-TIME:20211112T095358Z
DESCRIPTION:Evento in  modalità ibrida dedicato alla filiera  agroaliment
 are che dovrà fornire prodotti e servizi al nascente turismo spaziale
LAST-MODIFIED;VALUE=DATE-TIME:20211112T125519Z
URL:https://imprese.regione.emilia-romagna.it/eventi/2021/space-economy-il
 -futuro-del-cibo-nei-nuovi-mondi
END:VEVENT
BEGIN:VTIMEZONE
TZID:Europe/Rome
X-LIC-LOCATION:Europe/Rome
BEGIN:STANDARD
DTSTART;VALUE=DATE-TIME:20211031T020000
TZNAME:CET
TZOFFSETFROM:+0200
TZOFFSETTO:+0100
END:STANDARD
END:VTIMEZONE
END:VCALENDAR
