BEGIN:VCALENDAR
VERSION:2.0
PRODID:-//Plone.org//NONSGML plone.app.event//EN
X-WR-TIMEZONE:Europe/Rome
BEGIN:VEVENT
SUMMARY:Smart Working o ufficio? Modello ibrido nel dopo pandemia
DTSTART;TZID=Europe/Rome;VALUE=DATE-TIME:20210708T113000
DTEND;TZID=Europe/Rome;VALUE=DATE-TIME:20210708T130000
DTSTAMP;VALUE=DATE-TIME:20260425T022221Z
UID:b4e5ed4a94d044f7930135dae35afc94@imprese.regione.emilia-romagna.it
CONTACT:https://www.westpole.it/it/portfolio_page/wetalk-il-new-normal-sta
 -arrivando/
CREATED;VALUE=DATE-TIME:20210702T141729Z
DESCRIPTION:Lo Smart Working farà parte del New Normal post pandemico. Un
  webinar sugli strumenti utili per le imprese per l'adozione di un modello
  ibrido
LAST-MODIFIED;VALUE=DATE-TIME:20210702T145158Z
URL:https://imprese.regione.emilia-romagna.it/eventi/2021/smart-working-o-
 ufficio-modello-ibrido-nel-dopo-pandemia
END:VEVENT
BEGIN:VTIMEZONE
TZID:Europe/Rome
X-LIC-LOCATION:Europe/Rome
BEGIN:DAYLIGHT
DTSTART;VALUE=DATE-TIME:20210328T030000
TZNAME:CEST
TZOFFSETFROM:+0100
TZOFFSETTO:+0200
END:DAYLIGHT
END:VTIMEZONE
END:VCALENDAR
