BEGIN:VCALENDAR
VERSION:2.0
PRODID:-//Plone.org//NONSGML plone.app.event//EN
X-WR-TIMEZONE:Europe/Rome
BEGIN:VEVENT
SUMMARY:Premio Barresi 2021:  il 21 settembre si presenta
DTSTART;TZID=Europe/Rome;VALUE=DATE-TIME:20210921T170000
DTEND;TZID=Europe/Rome;VALUE=DATE-TIME:20210921T183000
DTSTAMP;VALUE=DATE-TIME:20260422T190552Z
UID:d07d80a60c704735a85be8fb9a98d003@imprese.regione.emilia-romagna.it
CONTACT:premiobarresi@cittametropolitana.bo.it\, https://www.cittametropol
 itana.bo.it/progimpresa/premiobarresi
CREATED;VALUE=DATE-TIME:20210914T160223Z
DESCRIPTION:Un webinar organizzato dalla Città metropolitana di Bologna p
 er illustrare il bando
LAST-MODIFIED;VALUE=DATE-TIME:20210914T161806Z
URL:https://imprese.regione.emilia-romagna.it/eventi/2021/premio-barresi-2
 021-il-21-settembre-si-presenta
END:VEVENT
BEGIN:VTIMEZONE
TZID:Europe/Rome
X-LIC-LOCATION:Europe/Rome
BEGIN:DAYLIGHT
DTSTART;VALUE=DATE-TIME:20210328T030000
TZNAME:CEST
TZOFFSETFROM:+0100
TZOFFSETTO:+0200
END:DAYLIGHT
END:VTIMEZONE
END:VCALENDAR
