BEGIN:VCALENDAR
VERSION:2.0
PRODID:-//Plone.org//NONSGML plone.app.event//EN
X-WR-TIMEZONE:Europe/Rome
BEGIN:VEVENT
SUMMARY:Migliorare il business con  la firma digitale
DTSTART;TZID=Europe/Rome;VALUE=DATE-TIME:20210914T110000
DTEND;TZID=Europe/Rome;VALUE=DATE-TIME:20210914T120000
DTSTAMP;VALUE=DATE-TIME:20260423T103831Z
UID:05451f21cf97435ea2d35add13f59bba@imprese.regione.emilia-romagna.it
CATEGORIES:computer,firma digitale
CONTACT:https://www.confindustriaemilia.it/flex/cm/pages/ServeBLOB.php/L/I
 T/IDPagina/96136
CREATED;VALUE=DATE-TIME:20210906T193132Z
DESCRIPTION:Un webinar per automatizzare i flussi di lavoro grazie all'uti
 lizzo di software dedicati
LAST-MODIFIED;VALUE=DATE-TIME:20210907T153950Z
URL:https://imprese.regione.emilia-romagna.it/eventi/2021/migliorare-il-la
 voro-con-adobe-sign-e-microsoft-365
END:VEVENT
BEGIN:VTIMEZONE
TZID:Europe/Rome
X-LIC-LOCATION:Europe/Rome
BEGIN:DAYLIGHT
DTSTART;VALUE=DATE-TIME:20210328T030000
TZNAME:CEST
TZOFFSETFROM:+0100
TZOFFSETTO:+0200
END:DAYLIGHT
END:VTIMEZONE
END:VCALENDAR
