BEGIN:VCALENDAR
VERSION:2.0
PRODID:-//Plone.org//NONSGML plone.app.event//EN
X-WR-TIMEZONE:Europe/Rome
BEGIN:VEVENT
SUMMARY:Memoria Festival 2021
DTSTART;TZID=Europe/Rome;VALUE=DATE-TIME:20211001T100000
DTEND;TZID=Europe/Rome;VALUE=DATE-TIME:20211003T230000
DTSTAMP;VALUE=DATE-TIME:20260422T095620Z
UID:42b3fdee0a6449afacca6a2ec77c71ea@imprese.regione.emilia-romagna.it
CATEGORIES:cultura,imprese cultura
CONTACT:Informazioni\, 0535 29624\, info@memoriafestival.it\, https://memo
 riafestival.it/
CREATED;VALUE=DATE-TIME:20210929T133219Z
DESCRIPTION:Tre giorni  di incontri\, conferenze\, tavole rotonde\, concer
 ti\, spettacoli dedicati al tema della Memoria
LAST-MODIFIED;VALUE=DATE-TIME:20210929T160316Z
URL:https://imprese.regione.emilia-romagna.it/eventi/2021/memoria-festival
 -2021
END:VEVENT
BEGIN:VTIMEZONE
TZID:Europe/Rome
X-LIC-LOCATION:Europe/Rome
BEGIN:DAYLIGHT
DTSTART;VALUE=DATE-TIME:20210328T030000
TZNAME:CEST
TZOFFSETFROM:+0100
TZOFFSETTO:+0200
END:DAYLIGHT
END:VTIMEZONE
END:VCALENDAR
