BEGIN:VCALENDAR
VERSION:2.0
PRODID:-//Plone.org//NONSGML plone.app.event//EN
X-WR-TIMEZONE:Europe/Rome
BEGIN:VEVENT
SUMMARY:L'innovazione per battere il Covid 19: ecco i progetti finanziati 
 dalla Regione
DTSTART;TZID=Europe/Rome;VALUE=DATE-TIME:20210914T153000
DTEND;TZID=Europe/Rome;VALUE=DATE-TIME:20210914T180000
DTSTAMP;VALUE=DATE-TIME:20260425T195202Z
UID:a53d8bdfb65d489d8a2f8d08ae9a9ef8@imprese.regione.emilia-romagna.it
CONTACT:https://teams.microsoft.com/dl/launcher/launcher.html?url=%2F_%23%
 2Fl%2Fmeetup-join%2F19%3Ameeting_MjIzMmI5MzktZTQ5Zi00NGEwLWI0MDMtNzIzZmJiM
 WYyMDE0%40thread.v2%2F0%3Fcontext%3D%257b%2522Tid%2522%253a%2522f45c8468-d
 416-4da9-aadb-9ab75944617b%2522%252c%2522Oid%2522%253a%252239371ddb-7c7f-4
 705-ba13-9f4aad2ab4b9%2522%257d%26anon%3Dtrue&type=meetup-join&deeplinkId=
 29dd7e76-85a4-4cce-bb35-4e7330a409a0&directDl=true&msLaunch=true&enableMob
 ilePage=true&suppressPrompt=true
CREATED;VALUE=DATE-TIME:20210913T102038Z
DESCRIPTION:Evento online in cui imprese e startup presenteranno le soluzi
 oni che hanno sviluppato per limitare la diffusione del virus
LAST-MODIFIED;VALUE=DATE-TIME:20210913T163336Z
URL:https://imprese.regione.emilia-romagna.it/eventi/2021/linnovazione-per
 -battere-il-covid-19-ecco-i-progetti-finanziati-dalla-regione
END:VEVENT
BEGIN:VTIMEZONE
TZID:Europe/Rome
X-LIC-LOCATION:Europe/Rome
BEGIN:DAYLIGHT
DTSTART;VALUE=DATE-TIME:20210328T030000
TZNAME:CEST
TZOFFSETFROM:+0100
TZOFFSETTO:+0200
END:DAYLIGHT
END:VTIMEZONE
END:VCALENDAR
