BEGIN:VCALENDAR
VERSION:2.0
PRODID:-//Plone.org//NONSGML plone.app.event//EN
X-WR-TIMEZONE:Europe/Rome
BEGIN:VEVENT
SUMMARY:L'arbitrato\, uno strumento per le imprese
DTSTART;TZID=Europe/Rome;VALUE=DATE-TIME:20210628T150000
DTEND;TZID=Europe/Rome;VALUE=DATE-TIME:20210628T170000
DTSTAMP;VALUE=DATE-TIME:20260421T151346Z
UID:1d9c29835fc947e7a1d37bb9b5c89d90@imprese.regione.emilia-romagna.it
CONTACT:Informazioni\, eventiadr@mi.camcom.it
CREATED;VALUE=DATE-TIME:20210614T151559Z
DESCRIPTION:Un webinar della Camera Arbitrale in collaborazione con la Cam
 era di Commercio di Bologna
LAST-MODIFIED;VALUE=DATE-TIME:20210614T160058Z
URL:https://imprese.regione.emilia-romagna.it/eventi/2021/larbitrato-uno-s
 trumento-per-le-imprese
END:VEVENT
BEGIN:VTIMEZONE
TZID:Europe/Rome
X-LIC-LOCATION:Europe/Rome
BEGIN:DAYLIGHT
DTSTART;VALUE=DATE-TIME:20210328T030000
TZNAME:CEST
TZOFFSETFROM:+0100
TZOFFSETTO:+0200
END:DAYLIGHT
END:VTIMEZONE
END:VCALENDAR
