BEGIN:VCALENDAR
VERSION:2.0
PRODID:-//Plone.org//NONSGML plone.app.event//EN
X-WR-TIMEZONE:Europe/Rome
BEGIN:VEVENT
SUMMARY:La proprietà intellettuale: cos’è\, perchè e come
DTSTART;TZID=Europe/Rome;VALUE=DATE-TIME:20210609T170000
DTEND;TZID=Europe/Rome;VALUE=DATE-TIME:20210609T183000
DTSTAMP;VALUE=DATE-TIME:20260422T235859Z
UID:7855554393d54954b9a72586b7becf89@imprese.regione.emilia-romagna.it
CONTACT:https://www.democentersipe.it/2021/05/webinar-9-giugno-ore-17-00-t
 ecnopolo-la-proprieta-intellettuale-cose-perche-e-come/
CREATED;VALUE=DATE-TIME:20210603T131942Z
DESCRIPTION:Un webinar nell'ambito di  Tècnopolo\,  ciclo di incontri di 
 approfondimento delle competenze e delle tecnologie del Tecnopolo di Moden
 a.
LAST-MODIFIED;VALUE=DATE-TIME:20210603T160508Z
URL:https://imprese.regione.emilia-romagna.it/eventi/2021/la-proprieta-int
 ellettuale-cos2019e-perche-e-come
END:VEVENT
BEGIN:VTIMEZONE
TZID:Europe/Rome
X-LIC-LOCATION:Europe/Rome
BEGIN:DAYLIGHT
DTSTART;VALUE=DATE-TIME:20210328T030000
TZNAME:CEST
TZOFFSETFROM:+0100
TZOFFSETTO:+0200
END:DAYLIGHT
END:VTIMEZONE
END:VCALENDAR
