BEGIN:VCALENDAR
VERSION:2.0
PRODID:-//Plone.org//NONSGML plone.app.event//EN
X-WR-TIMEZONE:Europe/Rome
BEGIN:VEVENT
SUMMARY:Incentivi di Invitalia per startup e imprenditori under 35
DTSTART;TZID=Europe/Rome;VALUE=DATE-TIME:20210513T170000
DTEND;TZID=Europe/Rome;VALUE=DATE-TIME:20210513T183000
DTSTAMP;VALUE=DATE-TIME:20260425T060511Z
UID:d668f37c99884851ac928b5f3d24eab6@imprese.regione.emilia-romagna.it
CONTACT:https://www.eventbrite.it/e/biglietti-gli-incentivi-di-invitalia-p
 er-startup-e-imprenditori-under-35-152552160619?fbclid=IwAR08URaPmQnYF7ddz
 EmtGzjMm0wr5K0xemuKBlas76wYz27y0ujPS8smowY
CREATED;VALUE=DATE-TIME:20210504T082627Z
DESCRIPTION:Un webinar in cui saranno presentate le opportunità dei progr
 ammi "Smart&Start Italia" e "Nuove Imprese a Tasso Zero"
LAST-MODIFIED;VALUE=DATE-TIME:20210504T085617Z
URL:https://imprese.regione.emilia-romagna.it/eventi/2021/incentivi-di-inv
 italia-per-startup-e-imprenditori-under-35
END:VEVENT
BEGIN:VTIMEZONE
TZID:Europe/Rome
X-LIC-LOCATION:Europe/Rome
BEGIN:DAYLIGHT
DTSTART;VALUE=DATE-TIME:20210328T030000
TZNAME:CEST
TZOFFSETFROM:+0100
TZOFFSETTO:+0200
END:DAYLIGHT
END:VTIMEZONE
END:VCALENDAR
