BEGIN:VCALENDAR
VERSION:2.0
PRODID:-//Plone.org//NONSGML plone.app.event//EN
X-WR-TIMEZONE:Europe/Rome
BEGIN:VEVENT
SUMMARY:Il Design Sprint per l'innovazione digitale
DTSTART;TZID=Europe/Rome;VALUE=DATE-TIME:20210611T110000
DTEND;TZID=Europe/Rome;VALUE=DATE-TIME:20210611T123000
DTSTAMP;VALUE=DATE-TIME:20260425T041318Z
UID:7b06c04153b24dfc8a344286c9ebe680@imprese.regione.emilia-romagna.it
CONTACT:Informazioni\, innovazione@ciseonweb.it\, https://www.ciseonweb.it
 /evento/webinar-110621-ore-1100-design-sprint-per-linnovazione-digitale.ht
 m?ID_D=15190
CREATED;VALUE=DATE-TIME:20210604T131645Z
DESCRIPTION:Webinar sul  metodo ideato da Google per validare idee\, crear
 e nuovi prodotti digitali
LAST-MODIFIED;VALUE=DATE-TIME:20210604T144211Z
URL:https://imprese.regione.emilia-romagna.it/eventi/2021/il-design-sprint
 -per-linnovazione-digitale
END:VEVENT
BEGIN:VTIMEZONE
TZID:Europe/Rome
X-LIC-LOCATION:Europe/Rome
BEGIN:DAYLIGHT
DTSTART;VALUE=DATE-TIME:20210328T030000
TZNAME:CEST
TZOFFSETFROM:+0100
TZOFFSETTO:+0200
END:DAYLIGHT
END:VTIMEZONE
END:VCALENDAR
