BEGIN:VCALENDAR
VERSION:2.0
PRODID:-//Plone.org//NONSGML plone.app.event//EN
X-WR-TIMEZONE:Europe/Rome
BEGIN:VEVENT
SUMMARY:Digital Transformation: Intelligenza Artificiale\, Big Data e Hpc
DTSTART;TZID=Europe/Rome;VALUE=DATE-TIME:20210603T083000
DTEND;TZID=Europe/Rome;VALUE=DATE-TIME:20210604T151500
DTSTAMP;VALUE=DATE-TIME:20260423T135521Z
UID:b6eac5c5fb7449679cbbdfa319a89fc9@imprese.regione.emilia-romagna.it
CONTACT:https://bigdata.eventi.co.za/
CREATED;VALUE=DATE-TIME:20210528T082109Z
DESCRIPTION:Un evento promosso dall’ambasciata d’Italia in Sud Africa 
  e dal Dipartimento “Science & Innovation” della Repubblica del Sud Af
 rica alla cui organizzazione ha collaborato la Regione Emilia-Romagna
LAST-MODIFIED;VALUE=DATE-TIME:20210528T124454Z
URL:https://imprese.regione.emilia-romagna.it/eventi/2021/digital-transfor
 mation-intelligenza-artificiale-big-data-e-hpc
END:VEVENT
BEGIN:VTIMEZONE
TZID:Europe/Rome
X-LIC-LOCATION:Europe/Rome
BEGIN:DAYLIGHT
DTSTART;VALUE=DATE-TIME:20210328T030000
TZNAME:CEST
TZOFFSETFROM:+0100
TZOFFSETTO:+0200
END:DAYLIGHT
END:VTIMEZONE
END:VCALENDAR
