BEGIN:VCALENDAR
VERSION:2.0
PRODID:-//Plone.org//NONSGML plone.app.event//EN
X-WR-TIMEZONE:Europe/Rome
BEGIN:VEVENT
SUMMARY:Data Visualisation: dall’intuizione all’evidenza
DTSTART;TZID=Europe/Rome;VALUE=DATE-TIME:20210604T110000
DTEND;TZID=Europe/Rome;VALUE=DATE-TIME:20210604T123000
DTSTAMP;VALUE=DATE-TIME:20260422T065931Z
UID:7ae6a5b6d879404e9415170299d2dc1e@imprese.regione.emilia-romagna.it
CONTACT:Informazioni\, innovazione@ciseonweb.it\, https://www.ciseonweb.it
 /evento/webinar-040621-ore-1100-data-visualisation-dallintuizione-allevide
 nza.htm?ID_D=15189
CREATED;VALUE=DATE-TIME:20210521T085528Z
DESCRIPTION:Webinar sull'importanza della visualizzazione dei dati: un mod
 o accessibile per comprendere tendenze\, anomalie\, modelli.
LAST-MODIFIED;VALUE=DATE-TIME:20210521T121251Z
URL:https://imprese.regione.emilia-romagna.it/eventi/2021/data-visualisati
 on-dall2019intuizione-all2019evidenza
END:VEVENT
BEGIN:VTIMEZONE
TZID:Europe/Rome
X-LIC-LOCATION:Europe/Rome
BEGIN:DAYLIGHT
DTSTART;VALUE=DATE-TIME:20210328T030000
TZNAME:CEST
TZOFFSETFROM:+0100
TZOFFSETTO:+0200
END:DAYLIGHT
END:VTIMEZONE
END:VCALENDAR
