BEGIN:VCALENDAR
VERSION:2.0
PRODID:-//Plone.org//NONSGML plone.app.event//EN
X-WR-TIMEZONE:Europe/Rome
BEGIN:VEVENT
SUMMARY:Dalla ripresa ai cambiamenti: analisi e prospettive per l’econom
 ia regionale
DTSTART;TZID=Europe/Rome;VALUE=DATE-TIME:20211222T100000
DTEND;TZID=Europe/Rome;VALUE=DATE-TIME:20211222T130000
DTSTAMP;VALUE=DATE-TIME:20260425T193837Z
UID:d42c98f4a91b4157aa14260080e0d128@imprese.regione.emilia-romagna.it
CONTACT:https://imprese.regione.emilia-romagna.it/notizie/notizie-attualit
 a/2021/si-presenta-il-rapporto-sull2019economia-regionale-2
CREATED;VALUE=DATE-TIME:20211217T150638Z
DESCRIPTION:Un confronto sugli scenari attuali e futuri dell'Emilia-Romagn
 a
LAST-MODIFIED;VALUE=DATE-TIME:20211223T083558Z
LOCATION:Online e Sala 20 maggio\, terza torre\, viale della Fiera 8\, Bol
 ogna
URL:https://imprese.regione.emilia-romagna.it/eventi/2021/dalla-ripresa-ai
 -cambiamenti-analisi-e-prospettive-per-l2019economia-regionale
END:VEVENT
BEGIN:VTIMEZONE
TZID:Europe/Rome
X-LIC-LOCATION:Europe/Rome
BEGIN:STANDARD
DTSTART;VALUE=DATE-TIME:20211031T020000
TZNAME:CET
TZOFFSETFROM:+0200
TZOFFSETTO:+0100
END:STANDARD
END:VTIMEZONE
END:VCALENDAR
