BEGIN:VCALENDAR
VERSION:2.0
PRODID:-//Plone.org//NONSGML plone.app.event//EN
X-WR-TIMEZONE:Europe/Rome
BEGIN:VEVENT
SUMMARY:Verso il nuovo Piano triennale di attuazione 2021-2023 del Piano e
 nergetico regionale
DTSTART;TZID=Europe/Rome;VALUE=DATE-TIME:20201105T140000
DTEND;TZID=Europe/Rome;VALUE=DATE-TIME:20201105T163000
DTSTAMP;VALUE=DATE-TIME:20260426T011851Z
UID:fcf372997d294a02b38afc8605b7145e@imprese.regione.emilia-romagna.it
CATEGORIES:green economy
CREATED;VALUE=DATE-TIME:20201103T143751Z
DESCRIPTION:Evento online\, 5 novembre 2020
LAST-MODIFIED;VALUE=DATE-TIME:20201103T172602Z
LOCATION:online
URL:https://imprese.regione.emilia-romagna.it/eventi/2020/verso-il-nuovo-p
 iano-triennale-di-attuazione-2021-2023-del-piano-energetico-regionale
END:VEVENT
BEGIN:VTIMEZONE
TZID:Europe/Rome
X-LIC-LOCATION:Europe/Rome
BEGIN:STANDARD
DTSTART;VALUE=DATE-TIME:20201025T020000
TZNAME:CET
TZOFFSETFROM:+0200
TZOFFSETTO:+0100
END:STANDARD
END:VTIMEZONE
END:VCALENDAR
