BEGIN:VCALENDAR
VERSION:2.0
PRODID:-//Plone.org//NONSGML plone.app.event//EN
X-WR-TIMEZONE:Europe/Rome
BEGIN:VEVENT
SUMMARY:Venture Capital & Business Angels in Italia: finanziamo le idee
DTSTART;TZID=Europe/Rome;VALUE=DATE-TIME:20200720T180000
DTSTAMP;VALUE=DATE-TIME:20260425T212819Z
UID:ab03e75a0c5f484585651593207eeb09@imprese.regione.emilia-romagna.it
CREATED;VALUE=DATE-TIME:20200715T142854Z
DESCRIPTION:Webinar\, 20 luglio 2020
LAST-MODIFIED;VALUE=DATE-TIME:20200715T201821Z
LOCATION:online
URL:https://imprese.regione.emilia-romagna.it/eventi/2020/venture-capital-
 business-angels-in-italia-finanziamo-le-idee
END:VEVENT
BEGIN:VTIMEZONE
TZID:Europe/Rome
X-LIC-LOCATION:Europe/Rome
BEGIN:DAYLIGHT
DTSTART;VALUE=DATE-TIME:20200329T030000
TZNAME:CEST
TZOFFSETFROM:+0100
TZOFFSETTO:+0200
END:DAYLIGHT
END:VTIMEZONE
END:VCALENDAR
