BEGIN:VCALENDAR
VERSION:2.0
PRODID:-//Plone.org//NONSGML plone.app.event//EN
X-WR-TIMEZONE:Europe/Rome
BEGIN:VEVENT
SUMMARY:UE - accordi commerciali
DTSTART;TZID=Europe/Rome;VALUE=DATE-TIME:20200304T103000
DTEND;TZID=Europe/Rome;VALUE=DATE-TIME:20200304T133000
DTSTAMP;VALUE=DATE-TIME:20260425T015730Z
UID:72be1806183a40079d4a7118e6df70a3@imprese.regione.emilia-romagna.it
CONTACT:Cciaa di Rimini - Ufficio internazionalizzazione\, 0541 363733\, e
 sterorn@romagna.camcom.it
CREATED;VALUE=DATE-TIME:20200214T145744Z
DESCRIPTION:Workshop\, Rimini\, 4 marzo 2020
LAST-MODIFIED;VALUE=DATE-TIME:20200304T091503Z
LOCATION:Auditorium Istituto Superiore di studi musicali G. Lettimi\, via 
 Cairoli\, 44 - Rimini
URL:https://imprese.regione.emilia-romagna.it/eventi/2020/ue-accordi-comme
 rciali
END:VEVENT
BEGIN:VTIMEZONE
TZID:Europe/Rome
X-LIC-LOCATION:Europe/Rome
BEGIN:STANDARD
DTSTART;VALUE=DATE-TIME:20191027T020000
TZNAME:CET
TZOFFSETFROM:+0200
TZOFFSETTO:+0100
END:STANDARD
END:VTIMEZONE
END:VCALENDAR
