BEGIN:VCALENDAR
VERSION:2.0
PRODID:-//Plone.org//NONSGML plone.app.event//EN
X-WR-TIMEZONE:Europe/Rome
BEGIN:VEVENT
SUMMARY:Startup Weekend Foodtech Europe
DTSTART;TZID=Europe/Rome;VALUE=DATE-TIME:20200228T180000
DTEND;TZID=Europe/Rome;VALUE=DATE-TIME:20200301T193000
DTSTAMP;VALUE=DATE-TIME:20260424T175228Z
UID:af9c350d8e7e49c6b1704fac85aab933@imprese.regione.emilia-romagna.it
CREATED;VALUE=DATE-TIME:20200224T103554Z
DESCRIPTION:Evento\, Reggio Emilia\, 28 febbraio - 1 marzo 2020
LAST-MODIFIED;VALUE=DATE-TIME:20200224T112359Z
LOCATION:Spazio C-Lab\, Palazzo dei Musei Civici\, via Lazzaro Spallanzani
 \, 1 - Reggio Emilia
URL:https://imprese.regione.emilia-romagna.it/eventi/2020/startup-weekend-
 foodtech-europe
END:VEVENT
BEGIN:VTIMEZONE
TZID:Europe/Rome
X-LIC-LOCATION:Europe/Rome
BEGIN:STANDARD
DTSTART;VALUE=DATE-TIME:20191027T020000
TZNAME:CET
TZOFFSETFROM:+0200
TZOFFSETTO:+0100
END:STANDARD
END:VTIMEZONE
END:VCALENDAR
