BEGIN:VCALENDAR
VERSION:2.0
PRODID:-//Plone.org//NONSGML plone.app.event//EN
X-WR-TIMEZONE:Europe/Rome
BEGIN:VEVENT
SUMMARY:Sfide cooperative sfide sostenibili
DTSTART;TZID=Europe/Rome;VALUE=DATE-TIME:20201214T174500
DTEND;TZID=Europe/Rome;VALUE=DATE-TIME:20201214T190000
DTSTAMP;VALUE=DATE-TIME:20260426T021556Z
UID:cffcde94f4dd438d8b146dbeda084376@imprese.regione.emilia-romagna.it
CONTACT:Legacoop Emilia ovest\, 0521 947011\, parma@legacoopemiliaovest.co
 op
CREATED;VALUE=DATE-TIME:20201211T104059Z
DESCRIPTION:Evento online\, 14 dicembre 2020
LAST-MODIFIED;VALUE=DATE-TIME:20201211T144937Z
LOCATION:online
URL:https://imprese.regione.emilia-romagna.it/eventi/2020/sfide-cooperativ
 e-sfide-sostenibili
END:VEVENT
BEGIN:VTIMEZONE
TZID:Europe/Rome
X-LIC-LOCATION:Europe/Rome
BEGIN:STANDARD
DTSTART;VALUE=DATE-TIME:20201025T020000
TZNAME:CET
TZOFFSETFROM:+0200
TZOFFSETTO:+0100
END:STANDARD
END:VTIMEZONE
END:VCALENDAR
