BEGIN:VCALENDAR
VERSION:2.0
PRODID:-//Plone.org//NONSGML plone.app.event//EN
X-WR-TIMEZONE:Europe/Rome
BEGIN:VEVENT
SUMMARY:Re-Start: ripartire insieme
DTSTART;TZID=Europe/Rome;VALUE=DATE-TIME:20201111T090000
DTEND;TZID=Europe/Rome;VALUE=DATE-TIME:20201111T103000
DTSTAMP;VALUE=DATE-TIME:20260420T174218Z
UID:c8c6a3f82285430299c9edc56f62d801@imprese.regione.emilia-romagna.it
CONTACT:Almacube\, 051 6330040\, info@almacube.com
CREATED;VALUE=DATE-TIME:20201106T150037Z
DESCRIPTION:Webinar\, 11 novembre 2020
LAST-MODIFIED;VALUE=DATE-TIME:20201106T153359Z
LOCATION:online
URL:https://imprese.regione.emilia-romagna.it/eventi/2020/re-start-riparti
 re-insieme
END:VEVENT
BEGIN:VTIMEZONE
TZID:Europe/Rome
X-LIC-LOCATION:Europe/Rome
BEGIN:STANDARD
DTSTART;VALUE=DATE-TIME:20201025T020000
TZNAME:CET
TZOFFSETFROM:+0200
TZOFFSETTO:+0100
END:STANDARD
END:VTIMEZONE
END:VCALENDAR
