BEGIN:VCALENDAR
VERSION:2.0
PRODID:-//Plone.org//NONSGML plone.app.event//EN
X-WR-TIMEZONE:Europe/Rome
BEGIN:VEVENT
SUMMARY:Raee: elementi di gestione operativa
DTSTART;TZID=Europe/Rome;VALUE=DATE-TIME:20200925T090000
DTEND;TZID=Europe/Rome;VALUE=DATE-TIME:20200925T130000
DTSTAMP;VALUE=DATE-TIME:20260422T234856Z
UID:b881602678934685a3f8ca4375c4d462@imprese.regione.emilia-romagna.it
CONTACT:Ecocamere\, info@ecocamere.it
CREATED;VALUE=DATE-TIME:20200921T075055Z
DESCRIPTION:Webinar\, 25 settembre 2020
LAST-MODIFIED;VALUE=DATE-TIME:20200921T090042Z
LOCATION:online
URL:https://imprese.regione.emilia-romagna.it/eventi/2020/raee-elementi-di
 -gestione-operativa
END:VEVENT
BEGIN:VTIMEZONE
TZID:Europe/Rome
X-LIC-LOCATION:Europe/Rome
BEGIN:DAYLIGHT
DTSTART;VALUE=DATE-TIME:20200329T030000
TZNAME:CEST
TZOFFSETFROM:+0100
TZOFFSETTO:+0200
END:DAYLIGHT
END:VTIMEZONE
END:VCALENDAR
